Package: LymphoSeq Version: 1.37.0 Command: /Library/Frameworks/R.framework/Resources/bin/R CMD INSTALL LymphoSeq StartedAt: 2025-10-03 15:37:47 -0400 (Fri, 03 Oct 2025) EndedAt: 2025-10-03 15:38:15 -0400 (Fri, 03 Oct 2025) EllapsedTime: 27.8 seconds RetCode: 0 Status: OK