Package: LymphoSeq Version: 1.37.0 Command: /Library/Frameworks/R.framework/Resources/bin/R CMD build --keep-empty-dirs --no-resave-data LymphoSeq StartedAt: 2025-10-03 17:37:59 -0400 (Fri, 03 Oct 2025) EndedAt: 2025-10-03 17:39:43 -0400 (Fri, 03 Oct 2025) EllapsedTime: 104.8 seconds RetCode: 0 Status: OK PackageFile: LymphoSeq_1.37.0.tar.gz PackageFileSize: 2.357 MiB