Package: LoomExperiment Version: 1.29.0 Command: /home/biocbuild/bbs-3.23-bioc/R/bin/R CMD INSTALL LoomExperiment StartedAt: 2025-11-06 15:35:08 -0500 (Thu, 06 Nov 2025) EndedAt: 2025-11-06 15:35:37 -0500 (Thu, 06 Nov 2025) EllapsedTime: 28.3 seconds RetCode: 0 Status: OK