Package: LoomExperiment Version: 1.27.0 Command: /Library/Frameworks/R.framework/Resources/bin/R CMD INSTALL LoomExperiment StartedAt: 2025-10-15 15:33:40 -0400 (Wed, 15 Oct 2025) EndedAt: 2025-10-15 15:34:20 -0400 (Wed, 15 Oct 2025) EllapsedTime: 40.2 seconds RetCode: 0 Status: OK