Package: LoomExperiment Version: 1.27.0 Command: /Library/Frameworks/R.framework/Resources/bin/R CMD build --keep-empty-dirs --no-resave-data LoomExperiment StartedAt: 2025-10-16 18:18:46 -0400 (Thu, 16 Oct 2025) EndedAt: 2025-10-16 18:19:52 -0400 (Thu, 16 Oct 2025) EllapsedTime: 65.8 seconds RetCode: 0 Status: OK PackageFile: LoomExperiment_1.27.0.tar.gz PackageFileSize: 252.9 KiB