Package: LoomExperiment Version: 1.27.0 Command: rm -rf LoomExperiment.buildbin-libdir && mkdir LoomExperiment.buildbin-libdir && /Users/biocbuild/BBS/utils/build-universal.sh LoomExperiment_1.27.0.tar.gz /Library/Frameworks/R.framework/Resources/bin/R LoomExperiment.buildbin-libdir StartedAt: 2025-10-16 03:00:31 -0400 (Thu, 16 Oct 2025) EndedAt: 2025-10-16 03:01:16 -0400 (Thu, 16 Oct 2025) EllapsedTime: 44.4 seconds RetCode: 0 Status: OK PackageFile: LoomExperiment_1.27.0.tgz PackageFileSize: 869.7 KiB