Package: LoomExperiment Version: 1.27.0 Command: /Library/Frameworks/R.framework/Resources/bin/R CMD build --keep-empty-dirs --no-resave-data LoomExperiment StartedAt: 2025-09-30 16:51:45 -0400 (Tue, 30 Sep 2025) EndedAt: 2025-09-30 16:52:04 -0400 (Tue, 30 Sep 2025) EllapsedTime: 18.2 seconds RetCode: 0 Status: OK PackageFile: LoomExperiment_1.27.0.tar.gz PackageFileSize: 252.9 KiB