Package: LiquidAssociation Version: 1.65.0 Command: /home/biocbuild/bbs-3.23-bioc/R/bin/R CMD INSTALL LiquidAssociation StartedAt: 2025-10-31 15:41:00 -0400 (Fri, 31 Oct 2025) EndedAt: 2025-10-31 15:41:14 -0400 (Fri, 31 Oct 2025) EllapsedTime: 14.5 seconds RetCode: 0 Status: OK