Package: LiquidAssociation Version: 1.65.0 Command: /home/biocbuild/bbs-3.23-bioc/R/bin/R CMD build --keep-empty-dirs --no-resave-data LiquidAssociation StartedAt: 2025-10-31 18:31:16 -0400 (Fri, 31 Oct 2025) EndedAt: 2025-10-31 18:31:43 -0400 (Fri, 31 Oct 2025) EllapsedTime: 27.0 seconds RetCode: 0 Status: OK PackageFile: LiquidAssociation_1.65.0.tar.gz PackageFileSize: 285.9 KiB