Package: LiquidAssociation Version: 1.65.0 Command: /Library/Frameworks/R.framework/Resources/bin/R CMD INSTALL LiquidAssociation StartedAt: 2025-11-21 15:31:55 -0500 (Fri, 21 Nov 2025) EndedAt: 2025-11-21 15:31:59 -0500 (Fri, 21 Nov 2025) EllapsedTime: 3.3 seconds RetCode: 1 Status: ERROR