############################################################################## ############################################################################## ### ### Running command: ### ### /Library/Frameworks/R.framework/Resources/bin/R CMD INSTALL LiquidAssociation ### ############################################################################## ############################################################################## * installing to library ‘/Library/Frameworks/R.framework/Versions/4.6-x86_64/Resources/library’ * installing *source* package ‘LiquidAssociation’ ... ** this is package ‘LiquidAssociation’ version ‘1.65.0’ ** using staged installation ** R ** byte-compile and prepare package for lazy loading Error: package or namespace load failed for ‘geepack’ in library.dynam(lib, package, package.lib): shared object ‘geepack.so’ not found Execution halted ERROR: lazy loading failed for package ‘LiquidAssociation’ * removing ‘/Library/Frameworks/R.framework/Versions/4.6-x86_64/Resources/library/LiquidAssociation’