Package: LiquidAssociation Version: 1.65.0 Command: /Library/Frameworks/R.framework/Resources/bin/R CMD build --keep-empty-dirs --no-resave-data LiquidAssociation StartedAt: 2025-11-20 17:32:14 -0500 (Thu, 20 Nov 2025) EndedAt: 2025-11-20 17:32:16 -0500 (Thu, 20 Nov 2025) EllapsedTime: 2.3 seconds RetCode: 1 Status: ERROR PackageFile: None PackageFileSize: NA