Package: LiquidAssociation Version: 1.63.0 Command: /Library/Frameworks/R.framework/Resources/bin/R CMD build --keep-empty-dirs --no-resave-data LiquidAssociation StartedAt: 2025-10-23 16:53:10 -0400 (Thu, 23 Oct 2025) EndedAt: 2025-10-23 16:53:24 -0400 (Thu, 23 Oct 2025) EllapsedTime: 13.2 seconds RetCode: 0 Status: OK PackageFile: LiquidAssociation_1.63.0.tar.gz PackageFileSize: 285.8 KiB