Package: LiquidAssociation Version: 1.63.0 Command: rm -rf LiquidAssociation.buildbin-libdir && mkdir LiquidAssociation.buildbin-libdir && /Users/biocbuild/BBS/utils/build-universal.sh LiquidAssociation_1.63.0.tar.gz /Library/Frameworks/R.framework/Resources/bin/R LiquidAssociation.buildbin-libdir StartedAt: 2025-10-23 23:14:46 -0400 (Thu, 23 Oct 2025) EndedAt: 2025-10-23 23:14:53 -0400 (Thu, 23 Oct 2025) EllapsedTime: 7.1 seconds RetCode: 0 Status: OK PackageFile: LiquidAssociation_1.63.0.tgz PackageFileSize: 508.6 KiB