Package: LipidTrend Version: 0.99.2 Command: /home/biocbuild/bbs-3.22-bioc/R/bin/R CMD INSTALL LipidTrend StartedAt: 2025-10-15 15:17:50 -0400 (Wed, 15 Oct 2025) EndedAt: 2025-10-15 15:18:16 -0400 (Wed, 15 Oct 2025) EllapsedTime: 26.0 seconds RetCode: 0 Status: OK