Package: LipidTrend Version: 1.1.0 Command: /home/biocbuild/bbs-3.23-bioc/R/bin/R CMD INSTALL LipidTrend StartedAt: 2025-11-16 15:18:41 -0500 (Sun, 16 Nov 2025) EndedAt: 2025-11-16 15:19:07 -0500 (Sun, 16 Nov 2025) EllapsedTime: 25.2 seconds RetCode: 0 Status: OK