Package: LipidTrend Version: 1.1.0 Command: /home/biocbuild/bbs-3.23-bioc/R/bin/R CMD build --keep-empty-dirs --no-resave-data LipidTrend StartedAt: 2025-11-16 18:24:33 -0500 (Sun, 16 Nov 2025) EndedAt: 2025-11-16 18:25:14 -0500 (Sun, 16 Nov 2025) EllapsedTime: 41.1 seconds RetCode: 0 Status: OK PackageFile: LipidTrend_1.1.0.tar.gz PackageFileSize: 766.4 KiB