Package: LipidTrend Version: 1.1.0 Command: /Library/Frameworks/R.framework/Resources/bin/R CMD INSTALL LipidTrend StartedAt: 2025-11-14 15:12:06 -0500 (Fri, 14 Nov 2025) EndedAt: 2025-11-14 15:12:16 -0500 (Fri, 14 Nov 2025) EllapsedTime: 9.7 seconds RetCode: 0 Status: OK