Package: LipidTrend Version: 1.1.0 Command: /Library/Frameworks/R.framework/Resources/bin/R CMD build --keep-empty-dirs --no-resave-data LipidTrend StartedAt: 2025-11-14 16:47:59 -0500 (Fri, 14 Nov 2025) EndedAt: 2025-11-14 16:48:16 -0500 (Fri, 14 Nov 2025) EllapsedTime: 17.2 seconds RetCode: 0 Status: OK PackageFile: LipidTrend_1.1.0.tar.gz PackageFileSize: 791.7 KiB