Package: LipidTrend Version: 1.1.0 Command: rm -rf LipidTrend.buildbin-libdir && mkdir LipidTrend.buildbin-libdir && /Users/biocbuild/BBS/utils/build-universal.sh LipidTrend_1.1.0.tar.gz /Library/Frameworks/R.framework/Resources/bin/R LipidTrend.buildbin-libdir StartedAt: 2025-11-14 23:38:27 -0500 (Fri, 14 Nov 2025) EndedAt: 2025-11-14 23:38:40 -0500 (Fri, 14 Nov 2025) EllapsedTime: 12.3 seconds RetCode: 0 Status: OK PackageFile: LipidTrend_1.1.0.tgz PackageFileSize: 1.045 MiB