Package: Linnorm Version: 2.33.0 Command: /home/biocbuild/bbs-3.22-bioc/R/bin/R CMD build --keep-empty-dirs --no-resave-data --md5 Linnorm StartedAt: 2025-10-03 18:20:33 -0400 (Fri, 03 Oct 2025) EndedAt: 2025-10-03 18:24:28 -0400 (Fri, 03 Oct 2025) EllapsedTime: 234.3 seconds RetCode: 0 Status: OK PackageFile: Linnorm_2.33.0.tar.gz PackageFileSize: 4.111 MiB