Package: Linnorm Version: 2.35.0 Command: /home/biocbuild/bbs-3.23-bioc/R/bin/R CMD INSTALL Linnorm StartedAt: 2025-11-20 15:10:14 -0500 (Thu, 20 Nov 2025) EndedAt: 2025-11-20 15:10:37 -0500 (Thu, 20 Nov 2025) EllapsedTime: 23.1 seconds RetCode: 0 Status: OK