Package: Linnorm Version: 2.35.0 Command: /home/biocbuild/bbs-3.23-bioc/R/bin/R CMD build --keep-empty-dirs --no-resave-data Linnorm StartedAt: 2025-11-20 18:21:17 -0500 (Thu, 20 Nov 2025) EndedAt: 2025-11-20 18:25:10 -0500 (Thu, 20 Nov 2025) EllapsedTime: 233.3 seconds RetCode: 0 Status: OK PackageFile: Linnorm_2.35.0.tar.gz PackageFileSize: 4.109 MiB