Package: Linnorm Version: 2.33.0 Command: /Library/Frameworks/R.framework/Resources/bin/R CMD INSTALL Linnorm StartedAt: 2025-10-23 15:13:01 -0400 (Thu, 23 Oct 2025) EndedAt: 2025-10-23 15:13:33 -0400 (Thu, 23 Oct 2025) EllapsedTime: 32.6 seconds RetCode: 0 Status: OK