Package: Linnorm Version: 2.33.0 Command: /Library/Frameworks/R.framework/Resources/bin/R CMD INSTALL Linnorm StartedAt: 2025-10-06 15:06:09 -0400 (Mon, 06 Oct 2025) EndedAt: 2025-10-06 15:06:21 -0400 (Mon, 06 Oct 2025) EllapsedTime: 12.3 seconds RetCode: 0 Status: OK