Package: Linnorm Version: 2.33.0 Command: /Library/Frameworks/R.framework/Resources/bin/R CMD build --keep-empty-dirs --no-resave-data Linnorm StartedAt: 2025-10-05 16:53:21 -0400 (Sun, 05 Oct 2025) EndedAt: 2025-10-05 16:54:49 -0400 (Sun, 05 Oct 2025) EllapsedTime: 88.1 seconds RetCode: 0 Status: OK PackageFile: Linnorm_2.33.0.tar.gz PackageFileSize: 4.106 MiB