Package: Linnorm Version: 2.33.0 Command: rm -rf Linnorm.buildbin-libdir && mkdir Linnorm.buildbin-libdir && /Users/biocbuild/BBS/utils/build-universal.sh Linnorm_2.33.0.tar.gz /Library/Frameworks/R.framework/Resources/bin/R Linnorm.buildbin-libdir StartedAt: 2025-10-05 22:47:51 -0400 (Sun, 05 Oct 2025) EndedAt: 2025-10-05 22:48:00 -0400 (Sun, 05 Oct 2025) EllapsedTime: 9.2 seconds RetCode: 0 Status: OK PackageFile: Linnorm_2.33.0.tgz PackageFileSize: 4.311 MiB