Package: LinkHD Version: 1.25.0 Command: /home/biocbuild/bbs-3.23-bioc/R/bin/R CMD INSTALL LinkHD StartedAt: 2025-11-20 15:23:26 -0500 (Thu, 20 Nov 2025) EndedAt: 2025-11-20 15:23:53 -0500 (Thu, 20 Nov 2025) EllapsedTime: 27.6 seconds RetCode: 0 Status: OK