Package: LinkHD Version: 1.25.0 Command: /home/biocbuild/bbs-3.23-bioc/R/bin/R CMD build --keep-empty-dirs --no-resave-data LinkHD StartedAt: 2025-11-20 18:21:14 -0500 (Thu, 20 Nov 2025) EndedAt: 2025-11-20 18:22:13 -0500 (Thu, 20 Nov 2025) EllapsedTime: 59.1 seconds RetCode: 0 Status: OK PackageFile: LinkHD_1.25.0.tar.gz PackageFileSize: 2.599 MiB