Package: LinkHD Version: 1.23.0 Command: /Library/Frameworks/R.framework/Resources/bin/R CMD INSTALL LinkHD StartedAt: 2025-10-14 15:24:24 -0400 (Tue, 14 Oct 2025) EndedAt: 2025-10-14 15:25:02 -0400 (Tue, 14 Oct 2025) EllapsedTime: 37.7 seconds RetCode: 0 Status: OK