Package: LinkHD Version: 1.23.0 Command: /Library/Frameworks/R.framework/Resources/bin/R CMD build --keep-empty-dirs --no-resave-data LinkHD StartedAt: 2025-10-14 17:46:11 -0400 (Tue, 14 Oct 2025) EndedAt: 2025-10-14 17:47:47 -0400 (Tue, 14 Oct 2025) EllapsedTime: 95.6 seconds RetCode: 0 Status: OK PackageFile: LinkHD_1.23.0.tar.gz PackageFileSize: 2.477 MiB