Package: LinkHD Version: 1.23.0 Command: rm -rf LinkHD.buildbin-libdir && mkdir LinkHD.buildbin-libdir && /Users/biocbuild/BBS/utils/build-universal.sh LinkHD_1.23.0.tar.gz /Library/Frameworks/R.framework/Resources/bin/R LinkHD.buildbin-libdir StartedAt: 2025-10-15 02:51:24 -0400 (Wed, 15 Oct 2025) EndedAt: 2025-10-15 02:52:06 -0400 (Wed, 15 Oct 2025) EllapsedTime: 42.0 seconds RetCode: 0 Status: OK PackageFile: LinkHD_1.23.0.tgz PackageFileSize: 2.187 MiB