Package: LinkHD Version: 1.23.0 Command: /Library/Frameworks/R.framework/Resources/bin/R CMD build --keep-empty-dirs --no-resave-data LinkHD StartedAt: 2025-10-01 16:53:02 -0400 (Wed, 01 Oct 2025) EndedAt: 2025-10-01 16:53:26 -0400 (Wed, 01 Oct 2025) EllapsedTime: 24.3 seconds RetCode: 0 Status: OK PackageFile: LinkHD_1.23.0.tar.gz PackageFileSize: 2.479 MiB