Package: LinkHD Version: 1.23.0 Command: rm -rf LinkHD.buildbin-libdir && mkdir LinkHD.buildbin-libdir && /Users/biocbuild/BBS/utils/build-universal.sh LinkHD_1.23.0.tar.gz /Library/Frameworks/R.framework/Resources/bin/R LinkHD.buildbin-libdir StartedAt: 2025-09-30 22:44:38 -0400 (Tue, 30 Sep 2025) EndedAt: 2025-09-30 22:44:50 -0400 (Tue, 30 Sep 2025) EllapsedTime: 12.3 seconds RetCode: 0 Status: OK PackageFile: LinkHD_1.23.0.tgz PackageFileSize: 2.19 MiB