Package: LinkHD Version: 1.25.0 Maintainer: "Laura M Zingaretti" MaintainerEmail: m.lau.zingaretti at gmail.com git_url: https://git.bioconductor.org/packages/LinkHD git_branch: devel git_last_commit: ceb49e3 git_last_commit_date: 2025-10-29 10:55:08 -0400 (Wed, 29 Oct 2025)