Package: LimROTS Version: 1.3.5 Command: /home/biocbuild/bbs-3.23-bioc/R/bin/R CMD INSTALL LimROTS StartedAt: 2025-11-20 15:51:05 -0500 (Thu, 20 Nov 2025) EndedAt: 2025-11-20 15:51:31 -0500 (Thu, 20 Nov 2025) EllapsedTime: 25.5 seconds RetCode: 0 Status: OK