Package: LimROTS Version: 1.3.5 Command: /home/biocbuild/bbs-3.23-bioc/R/bin/R CMD build --keep-empty-dirs --no-resave-data LimROTS StartedAt: 2025-11-20 18:21:01 -0500 (Thu, 20 Nov 2025) EndedAt: 2025-11-20 18:22:01 -0500 (Thu, 20 Nov 2025) EllapsedTime: 60.1 seconds RetCode: 1 Status: ERROR PackageFile: None PackageFileSize: NA