Package: LimROTS Version: 1.3.5 Command: /Library/Frameworks/R.framework/Resources/bin/R CMD INSTALL LimROTS StartedAt: 2025-11-20 15:46:00 -0500 (Thu, 20 Nov 2025) EndedAt: 2025-11-20 15:46:36 -0500 (Thu, 20 Nov 2025) EllapsedTime: 35.6 seconds RetCode: 0 Status: OK