Package: LimROTS Version: 1.3.5 Command: /Library/Frameworks/R.framework/Resources/bin/R CMD build --keep-empty-dirs --no-resave-data LimROTS StartedAt: 2025-11-20 17:31:43 -0500 (Thu, 20 Nov 2025) EndedAt: 2025-11-20 17:32:47 -0500 (Thu, 20 Nov 2025) EllapsedTime: 63.9 seconds RetCode: 1 Status: ERROR PackageFile: None PackageFileSize: NA