Package: LimROTS Version: 1.3.1 Command: rm -rf LimROTS.buildbin-libdir && mkdir LimROTS.buildbin-libdir && /Users/biocbuild/BBS/utils/build-universal.sh LimROTS_1.3.1.tar.gz /Library/Frameworks/R.framework/Resources/bin/R LimROTS.buildbin-libdir StartedAt: 2025-11-19 01:35:47 -0500 (Wed, 19 Nov 2025) EndedAt: 2025-11-19 01:36:26 -0500 (Wed, 19 Nov 2025) EllapsedTime: 39.4 seconds RetCode: 0 Status: OK PackageFile: LimROTS_1.3.1.tgz PackageFileSize: 835 KiB