Package: LimROTS Version: 1.1.4 Command: /Library/Frameworks/R.framework/Resources/bin/R CMD build --keep-empty-dirs --no-resave-data LimROTS StartedAt: 2025-10-14 16:49:47 -0400 (Tue, 14 Oct 2025) EndedAt: 2025-10-14 16:50:18 -0400 (Tue, 14 Oct 2025) EllapsedTime: 31.3 seconds RetCode: 0 Status: OK PackageFile: LimROTS_1.1.4.tar.gz PackageFileSize: 774.7 KiB