Package: Lheuristic Version: 1.3.0 Command: /home/biocbuild/bbs-3.23-bioc/R/bin/R CMD INSTALL Lheuristic StartedAt: 2025-11-20 15:23:45 -0500 (Thu, 20 Nov 2025) EndedAt: 2025-11-20 15:24:11 -0500 (Thu, 20 Nov 2025) EllapsedTime: 25.9 seconds RetCode: 0 Status: OK