Package: Lheuristic Version: 1.1.0 Command: /Library/Frameworks/R.framework/Resources/bin/R CMD INSTALL Lheuristic StartedAt: 2025-10-24 15:31:59 -0400 (Fri, 24 Oct 2025) EndedAt: 2025-10-24 15:32:35 -0400 (Fri, 24 Oct 2025) EllapsedTime: 35.8 seconds RetCode: 0 Status: OK