Package: Lheuristic Version: 1.1.0 Command: /Library/Frameworks/R.framework/Resources/bin/R CMD build --keep-empty-dirs --no-resave-data Lheuristic StartedAt: 2025-10-24 17:36:09 -0400 (Fri, 24 Oct 2025) EndedAt: 2025-10-24 17:37:01 -0400 (Fri, 24 Oct 2025) EllapsedTime: 52.6 seconds RetCode: 0 Status: OK PackageFile: Lheuristic_1.1.0.tar.gz PackageFileSize: 608.8 KiB