Package: Lheuristic Version: 1.1.0 Command: rm -rf Lheuristic.buildbin-libdir && mkdir Lheuristic.buildbin-libdir && /Users/biocbuild/BBS/utils/build-universal.sh Lheuristic_1.1.0.tar.gz /Library/Frameworks/R.framework/Resources/bin/R Lheuristic.buildbin-libdir StartedAt: 2025-10-25 01:47:02 -0400 (Sat, 25 Oct 2025) EndedAt: 2025-10-25 01:47:41 -0400 (Sat, 25 Oct 2025) EllapsedTime: 39.5 seconds RetCode: 0 Status: OK PackageFile: Lheuristic_1.1.0.tgz PackageFileSize: 663.7 KiB