Package: Lheuristic Version: 1.1.0 Command: /Library/Frameworks/R.framework/Resources/bin/R CMD INSTALL Lheuristic StartedAt: 2025-10-12 15:15:10 -0400 (Sun, 12 Oct 2025) EndedAt: 2025-10-12 15:15:21 -0400 (Sun, 12 Oct 2025) EllapsedTime: 11.5 seconds RetCode: 0 Status: OK