Package: Lheuristic Version: 1.1.0 Command: /Library/Frameworks/R.framework/Resources/bin/R CMD build --keep-empty-dirs --no-resave-data Lheuristic StartedAt: 2025-10-12 16:48:00 -0400 (Sun, 12 Oct 2025) EndedAt: 2025-10-12 16:48:18 -0400 (Sun, 12 Oct 2025) EllapsedTime: 17.2 seconds RetCode: 0 Status: OK PackageFile: Lheuristic_1.1.0.tar.gz PackageFileSize: 608.9 KiB