Package: Lheuristic Version: 1.1.0 Command: rm -rf Lheuristic.buildbin-libdir && mkdir Lheuristic.buildbin-libdir && /Users/biocbuild/BBS/utils/build-universal.sh Lheuristic_1.1.0.tar.gz /Library/Frameworks/R.framework/Resources/bin/R Lheuristic.buildbin-libdir StartedAt: 2025-10-13 22:47:13 -0400 (Mon, 13 Oct 2025) EndedAt: 2025-10-13 22:47:25 -0400 (Mon, 13 Oct 2025) EllapsedTime: 12.3 seconds RetCode: 0 Status: OK PackageFile: Lheuristic_1.1.0.tgz PackageFileSize: 664.9 KiB