Package: LedPred Version: 1.43.0 Command: /home/biocbuild/R/R/bin/R CMD INSTALL LedPred StartedAt: 2025-10-13 20:43:51 -0000 (Mon, 13 Oct 2025) EndedAt: 2025-10-13 20:44:15 -0000 (Mon, 13 Oct 2025) EllapsedTime: 23.9 seconds RetCode: 0 Status: OK