Package: LedPred Version: 1.43.0 Command: /home/biocbuild/bbs-3.22-bioc/R/bin/R CMD INSTALL LedPred StartedAt: 2025-10-03 15:09:44 -0400 (Fri, 03 Oct 2025) EndedAt: 2025-10-03 15:09:55 -0400 (Fri, 03 Oct 2025) EllapsedTime: 11.4 seconds RetCode: 0 Status: OK